BEGIN:VCALENDAR
VERSION:2.0
PRODID:-//KMG Finland - ECPv6.15.20//NONSGML v1.0//EN
CALSCALE:GREGORIAN
METHOD:PUBLISH
X-WR-CALNAME:KMG Finland
X-ORIGINAL-URL:https://kmgfinland.com
X-WR-CALDESC:Tapahtumat KMG Finland
REFRESH-INTERVAL;VALUE=DURATION:PT1H
X-Robots-Tag:noindex
X-PUBLISHED-TTL:PT1H
BEGIN:VTIMEZONE
TZID:Europe/Helsinki
BEGIN:DAYLIGHT
TZOFFSETFROM:+0200
TZOFFSETTO:+0300
TZNAME:EEST
DTSTART:20240331T010000
END:DAYLIGHT
BEGIN:STANDARD
TZOFFSETFROM:+0300
TZOFFSETTO:+0200
TZNAME:EET
DTSTART:20241027T010000
END:STANDARD
BEGIN:DAYLIGHT
TZOFFSETFROM:+0200
TZOFFSETTO:+0300
TZNAME:EEST
DTSTART:20250330T010000
END:DAYLIGHT
BEGIN:STANDARD
TZOFFSETFROM:+0300
TZOFFSETTO:+0200
TZNAME:EET
DTSTART:20251026T010000
END:STANDARD
BEGIN:DAYLIGHT
TZOFFSETFROM:+0200
TZOFFSETTO:+0300
TZNAME:EEST
DTSTART:20260329T010000
END:DAYLIGHT
BEGIN:STANDARD
TZOFFSETFROM:+0300
TZOFFSETTO:+0200
TZNAME:EET
DTSTART:20261025T010000
END:STANDARD
END:VTIMEZONE
BEGIN:VEVENT
DTSTART;TZID=Europe/Helsinki:20251116T100000
DTEND;TZID=Europe/Helsinki:20251116T160000
DTSTAMP:20260420T171710
CREATED:20250726T122825Z
LAST-MODIFIED:20250726T123009Z
UID:1502-1763287200-1763308800@kmgfinland.com
SUMMARY:KMG Ohjaajien jatkokoulutus syksy 2025
DESCRIPTION:Syksyn 2025 ohjaajien jatkokoulutus järjestetään 16.11.2025 Kirkkonummella. \nTapahtuman tiedot: \nPaikka: Krav Maga Kirkkonummi\, Masalantie 357\, Kirkkonummi\nAjankohta: Sunnuntai 16.11.2025 klo 10 – 16 (sis. lounastauon) \nIlmoittautuminen oheisella lomakkeella. Jatkokoulutuspäivä on osa KMG Instructor Program 2025 -ohjelmaa eikä siitä ole erillistä maksua.
URL:https://kmgfinland.com/tapahtuma/1502/
LOCATION:Krav Maga Kirkkonummi\, Masalantie 357\, Kirkkonummi\, 02430\, Suomi
END:VEVENT
END:VCALENDAR