BEGIN:VCALENDAR
VERSION:2.0
PRODID:-//KMG Finland - ECPv6.15.20//NONSGML v1.0//EN
CALSCALE:GREGORIAN
METHOD:PUBLISH
X-ORIGINAL-URL:https://kmgfinland.com
X-WR-CALDESC:Tapahtumat KMG Finland
REFRESH-INTERVAL;VALUE=DURATION:PT1H
X-Robots-Tag:noindex
X-PUBLISHED-TTL:PT1H
BEGIN:VTIMEZONE
TZID:Europe/Helsinki
BEGIN:DAYLIGHT
TZOFFSETFROM:+0200
TZOFFSETTO:+0300
TZNAME:EEST
DTSTART:20240331T010000
END:DAYLIGHT
BEGIN:STANDARD
TZOFFSETFROM:+0300
TZOFFSETTO:+0200
TZNAME:EET
DTSTART:20241027T010000
END:STANDARD
BEGIN:DAYLIGHT
TZOFFSETFROM:+0200
TZOFFSETTO:+0300
TZNAME:EEST
DTSTART:20250330T010000
END:DAYLIGHT
BEGIN:STANDARD
TZOFFSETFROM:+0300
TZOFFSETTO:+0200
TZNAME:EET
DTSTART:20251026T010000
END:STANDARD
BEGIN:DAYLIGHT
TZOFFSETFROM:+0200
TZOFFSETTO:+0300
TZNAME:EEST
DTSTART:20260329T010000
END:DAYLIGHT
BEGIN:STANDARD
TZOFFSETFROM:+0300
TZOFFSETTO:+0200
TZNAME:EET
DTSTART:20261025T010000
END:STANDARD
END:VTIMEZONE
BEGIN:VEVENT
DTSTART;TZID=Europe/Helsinki:20251130T110000
DTEND;TZID=Europe/Helsinki:20251130T180000
DTSTAMP:20260420T160649
CREATED:20250726T122418Z
LAST-MODIFIED:20250726T122418Z
UID:1500-1764500400-1764525600@kmgfinland.com
SUMMARY:KMG Tasokoe syksy 2025
DESCRIPTION:KMG:n Practitioner ja Graduate tasojen tasokoe järjestetään 30.11.2025.\n\nTapahtuman tiedot: \nAjankohta: 30.11.2025 sunnuntai klo 11 ->\nAihe: P2-G5 tasojen tasokokeet\nHinnat:\nP-tasot 40 euroa\nG-tasot 50 euroa\nPaikka:\nKrav Maga Kirkkonummi\, Masalantie 357\, Masala \nTasokoeohjeet ja osallistumisen edellytykset löytyvät Tasokokeet-sivulta \nIlmoittautuminen tapahtuu oheisella ilmoittautumislomakkeella 20.11.2025 mennessä.
URL:https://kmgfinland.com/tapahtuma/kmg-tasokoe-syksy-2025/
LOCATION:Krav Maga Kirkkonummi\, Masalantie 357\, Kirkkonummi\, 02430\, Suomi
END:VEVENT
END:VCALENDAR