BEGIN:VCALENDAR
VERSION:2.0
PRODID:-//KMG Finland - ECPv6.15.20//NONSGML v1.0//EN
CALSCALE:GREGORIAN
METHOD:PUBLISH
X-ORIGINAL-URL:https://kmgfinland.com
X-WR-CALDESC:Tapahtumat KMG Finland
REFRESH-INTERVAL;VALUE=DURATION:PT1H
X-Robots-Tag:noindex
X-PUBLISHED-TTL:PT1H
BEGIN:VTIMEZONE
TZID:Europe/Helsinki
BEGIN:DAYLIGHT
TZOFFSETFROM:+0200
TZOFFSETTO:+0300
TZNAME:EEST
DTSTART:20240331T010000
END:DAYLIGHT
BEGIN:STANDARD
TZOFFSETFROM:+0300
TZOFFSETTO:+0200
TZNAME:EET
DTSTART:20241027T010000
END:STANDARD
BEGIN:DAYLIGHT
TZOFFSETFROM:+0200
TZOFFSETTO:+0300
TZNAME:EEST
DTSTART:20250330T010000
END:DAYLIGHT
BEGIN:STANDARD
TZOFFSETFROM:+0300
TZOFFSETTO:+0200
TZNAME:EET
DTSTART:20251026T010000
END:STANDARD
BEGIN:DAYLIGHT
TZOFFSETFROM:+0200
TZOFFSETTO:+0300
TZNAME:EEST
DTSTART:20260329T010000
END:DAYLIGHT
BEGIN:STANDARD
TZOFFSETFROM:+0300
TZOFFSETTO:+0200
TZNAME:EET
DTSTART:20261025T010000
END:STANDARD
END:VTIMEZONE
BEGIN:VEVENT
DTSTART;TZID=Europe/Helsinki:20250724T090000
DTEND;TZID=Europe/Helsinki:20250727T163000
DTSTAMP:20260421T010307
CREATED:20250115T100758Z
LAST-MODIFIED:20250719T184417Z
UID:1435-1753347600-1753633800@kmgfinland.com
SUMMARY:KMG ohjaajien jatkokoulutus - kesä 2025
DESCRIPTION:Kesän 2025 ohjaajien jatkokoulutus järjestetään 24.-27.7.2025 Kirkkonummella ja Eerikkilän urheiluopistolla. \n \nFOR INSTRUCTORS NOT RESIDING IN FINLAND\, PLEASE SEE INFORMATION IN ENGLISH BELOW: \nTapahtuman tiedot: \n\nPaikka:\n\n24.-25.7.2025: Krav Maga Kirkkonummi\, Masalantie 357\, Kirkkonummi\n26.-27.7.2025: Eerikkilän urheiluopisto\, Urheiluopistontie 138\, Eerikkilä (Tammela)\n\n\nHarjoitteluajat:\n\n24.-25.7.2025: klo 9:00 – 17:00 (alustava)\n26.7.2025: klo 9:30 – 17:00\n27.7.2025: klo 9:00 – 16:30\n\n\nOhjaaja: Eyal Yanilov\nHinnat\n\n24.-25.7.2025: Kirkkonummi\n\n1 pv: 80 eur\n2 pv: 150 eur\n\n\n26.-27.7.2025: Eerikkilä\n\n1 pv: 93\,90 eur (sisältää lounaan)\n2 pv (ei majoitusta): 177\,80 eur (sisältää lounaat)\n2 pv (majoitus 2 hlö huone): 229\,90 eur (sisältää 2 x lounas\, päivällinen\, iltapala\, aamiainen)\n\n1 hlön huonelisä 25 eur\nHuom! huoneita saatavilla rajoitettu määrä\nMajoittuminen mahdollista myös pe-la yöksi lisähinnalla (tiedustelut tämän osalta info (at) kmgfinland.com)\n\n\n\n\n\n\n\nIlmoittautuminen tapahtuu alla olevalla lomakkeella. Täytä ilmoittautumisvaihtoehto-kohtaan tarvittavat tiedot haluamastasi ilmoittautumisvaihtoehdosta\, joista esimerkkejä alla. Muotoile alla olevien esimerkkien pohjalta omaa tarvettasi vastaava vaihtoehto: \n\n1pv-to: ilmoittautuminen vain lauantaipäiväksi\n1pv-pe: ilmoittauminen vain sunnuntaipäiväksi\n2pv-to-pe ilmoittautuminen torstaiksi ja perjantaiksi\n1pv-la: ilmoittautuminen vain lauantaipäiväksi\n1pv-su: ilmoittauminen vain sunnuntaipäiväksi\n2pv-la-su: ilmoittautuminen lauantaiksi ja sunnuntaiksi ilman majoitusta\n2pv-la-su-2hh: ilmoittauminen la-su päiviksi majoituksella 2hh huoneessa (kirjoita perään sulkuihin huonekaveri)\n2pv-la-su-1hh: ilmoittauminen la-su päiviksi majoituksella 1hh huoneessa\n3pv-pe-su-2hh: ilmoittauminen pe-su päiviksi majoituksella la-su yöksi 2hh huoneessa (kirjoita perään sulkuihin huonekaveri)\n4pv-to-su-1hh: ilmoittauminen to-su päiviksi majoituksella la-su yöksi 1hh huoneessa\n\nEsimerkki: Olet ilmoittautumassa kahdeksi päiväksi majoituksella kaverisi Matti Möttösen kanssa. Kirjaa 2pv-2hh (Matti Möttönen). \nMikäli haluat tapahtumasta laskun seurallesi\, olethan tästä etukäteen yhteydessä info (at ) kmgfinland.com. \n\nThe Summer 2025 KMG Instructor update will take place on July 24–25\, 2025\, in Kirkkonummi. Please note that you can also continue training with Eyal on the weekend 26-27\, 2025 at the Eerikkilä Sport Institute. Please see information and registration instructions regarding that on the Summer camp page. \nEvent Details: \n\nLocations:\n\nJuly 24–25\, 2025: Krav Maga Kirkkonummi\, Masalantie 357\, Kirkkonummi\n\n\nTraining Schedule:\n\nJuly 24–25\, 2025: 9:00 AM – 5:00 PM (tentative)\n\n\nInstructor: Eyal Yanilov\n\nPrices: \n\nJuly 24–25\, 2025: Kirkkonummi\n\n1 day: €80\n2 days: €150\n\n\n\nPlease register using the form below. Fill in the ”Registration Option” field with the option that suits your needs. Examples are provided below: \n\n1 day – Thu: Registration for Thursday only\n1 day – Fri: Registration for Friday only\n2 days – Thu-Fri: Registration for Thursday and Friday\n\nIf you require an invoice for your organization\, please contact us in advance at info(at)kmgfinland.com.
URL:https://kmgfinland.com/tapahtuma/jatko-kesa-2025/
LOCATION:Krav Maga Kirkkonummi\, Masalantie 357\, Kirkkonummi\, 02430\, Suomi
END:VEVENT
BEGIN:VEVENT
DTSTART;TZID=Europe/Helsinki:20250726T093000
DTEND;TZID=Europe/Helsinki:20250727T163000
DTSTAMP:20260421T010307
CREATED:20250115T101011Z
LAST-MODIFIED:20250719T182450Z
UID:1437-1753522200-1753633800@kmgfinland.com
SUMMARY:KMG kesäleiri 2025
DESCRIPTION:KMG kesäleiri järjestetään 26.-27.7.2025 Eerikkilän urheiluopistolla. \n \nINFORMATION IN ENGLISH CAN BE FOUND BELOW. \nTapahtuman tiedot: \n\nPaikka: Eerikkilän urheiluopisto\, Urheiluopistontie 138\, Eerikkilä (Tammela)\nHarjoitteluajat:\n\n26.7.2025: klo 9:30 – 17:00\n27.7.2025: klo 9:00 – 16:30\n\n\nOhjaaja: KMG:n perustaja ja pääkouluttaja Eyal Yanilov\nHinnat\n\n26.-27.7.2025: Eerikkilä\n\n1 pv: 93\,90 eur (sisältää lounaan)\n2 pv (ei majoitusta): 177\,80 eur (sisältää lounaat)\n2 pv (majoitus 2 hlö huone): 229\,90 eur (sisältää 2 x lounas\, päivällinen\, iltapala\, aamiainen)\n\n1 hlön huonelisä 25 eur\nHuom! huoneita saatavilla rajoitettu määrä\nMajoittuminen mahdollista myös pe-la yöksi lisähinnalla (tiedustelut tämän osalta info (at) kmgfinland.com)\n\n\n\n\n\n\n\nIlmoittautuminen tapahtuu alla olevalla lomakkeella 20.7.2025 mennessä. Täytä ilmoittautumisvaihtoehto-kohtaan tarvittavat tiedot haluamastasi ilmoittautumisvaihtoehdosta: \n\n1pv-la: ilmoittautuminen vain lauantaipäiväksi\n1pv-su: ilmoittauminen vain sunnuntaipäiväksi\n2pv: ilmoittautuminen lauantaiksi ja sunnuntaiksi ilman majoitusta\n2pv-2hh: ilmoittauminen molemmiksi päiviksi majoituksella 2hh huoneessa (kirjoita perään sulkuihin huonekaveri)\n2pv-1hh: ilmoittauminen molemmiksi päiviksi majoituksella 1hh huoneessa\n\nEsimerkki: Olet ilmoittautumassa kahdeksi päiväksi majoituksella kaverisi Matti Möttösen kanssa. Kirjaa 2pv-2hh (Matti Möttönen). \n\nKMG Finland Summer Camp will be held on July 26–27\, 2025\, at the Eerikkilä Sports Institute. \nEvent Details: \n\nLocation: Eerikkilä Sports Institute\, Urheiluopistontie 138\, Eerikkilä (Tammela)\nTraining Schedule:\n\nJuly 26\, 2025: 9:30 AM – 5:00 PM\nJuly 27\, 2025: 9:00 AM – 4:30 PM\n\n\nInstructor: Eyal Yanilov\, Founder and Head Instructor of KMG\n\nPrices: \n\nJuly 26–27\, 2025: Eerikkilä\n\n2 days (accommodation in a double room): €229.90 (includes 2x lunch\, dinner\, evening snack\, breakfast)\n\nSingle room supplement: €25\nNote: Limited number of rooms available\nAccommodation is also possible for Friday-Saturday night at an additional cost (inquiries via info(at)kmgfinland.com)\n\n\n\n\n\nRegistration:\nPlease register using the form below by July 20\, 2025. Fill in the necessary information in the ”Registration Option” field based on your choice: \n\n2 days – double room: Registration for both days with accommodation in a double room (add your roommate’s name in parentheses)\n2 days – single room: Registration for both days with accommodation in a single room\n\nExample: You are registering for two days with accommodation and sharing a room with your friend John Smith. Write: 2 days – double room (John Smith).
URL:https://kmgfinland.com/tapahtuma/kesaleiri2025/
LOCATION:Eerikkilän urheiluopisto\, Urheiluopistontie 138\, Eerikkilä\, 31370\, Suomi
END:VEVENT
END:VCALENDAR