BEGIN:VCALENDAR
VERSION:2.0
PRODID:-//KMG Finland - ECPv6.15.20//NONSGML v1.0//EN
CALSCALE:GREGORIAN
METHOD:PUBLISH
X-WR-CALNAME:KMG Finland
X-ORIGINAL-URL:https://kmgfinland.com
X-WR-CALDESC:Tapahtumat KMG Finland
REFRESH-INTERVAL;VALUE=DURATION:PT1H
X-Robots-Tag:noindex
X-PUBLISHED-TTL:PT1H
BEGIN:VTIMEZONE
TZID:Europe/Helsinki
BEGIN:DAYLIGHT
TZOFFSETFROM:+0200
TZOFFSETTO:+0300
TZNAME:EEST
DTSTART:20240331T010000
END:DAYLIGHT
BEGIN:STANDARD
TZOFFSETFROM:+0300
TZOFFSETTO:+0200
TZNAME:EET
DTSTART:20241027T010000
END:STANDARD
BEGIN:DAYLIGHT
TZOFFSETFROM:+0200
TZOFFSETTO:+0300
TZNAME:EEST
DTSTART:20250330T010000
END:DAYLIGHT
BEGIN:STANDARD
TZOFFSETFROM:+0300
TZOFFSETTO:+0200
TZNAME:EET
DTSTART:20251026T010000
END:STANDARD
BEGIN:DAYLIGHT
TZOFFSETFROM:+0200
TZOFFSETTO:+0300
TZNAME:EEST
DTSTART:20260329T010000
END:DAYLIGHT
BEGIN:STANDARD
TZOFFSETFROM:+0300
TZOFFSETTO:+0200
TZNAME:EET
DTSTART:20261025T010000
END:STANDARD
END:VTIMEZONE
BEGIN:VEVENT
DTSTART;TZID=Europe/Helsinki:20250808T110000
DTEND;TZID=Europe/Helsinki:20250808T160000
DTSTAMP:20260421T011048
CREATED:20250109T103321Z
LAST-MODIFIED:20250523T072446Z
UID:1426-1754650800-1754668800@kmgfinland.com
SUMMARY:KMG pistooliseminaari
DESCRIPTION:KMG Finland järjestää elokuussa KMG harrastajille suunnatun pistooliseminaarin Black Box Training Centerillä Kaarinassa. \n \nSeminaarin tavoitteena on tutustuttaa pistoolin käsittelyyn ja ammuntaan sekä harjoitella pistoolin käyttöä itsepuolustustilanteiden yhteydessä. Koulutus painottuu pistoolin käyttöön krav maga -harjoittelijan näkökulmasta. \nTapahtuman tiedot: \n\nAjankohta: 8.8.2025 pe\nHarjoitusajat: klo 11 – 16 (tapahtuma ei sisällä pidempiä taukoja)\nAiheet:\n\nPistooliammunnan teoria\nPistoolin käsittelyn perusteet\nPistoolin käyttö itsepuolustustilanteissa ja siihen liittyviä Airsoft-harjoitteita\nPistoolilla ammunta\n\n\nPaikka: Black Box Training center\, Kuljettajankatu 13\, Kaarina\n\nEsitietovaatimukset: \n\nKMG P1 – taso\n\nVarusteet: \n\nHarjoittelu tapahtuu sisällä betonialustalla\, joten vaatetus ja kengät on hyvä valita sen mukaisesti (huom. tapahtumapaikalla ei ole suihkutiloja)\nAirsoft-harjoitteita ajatellen mukana on hyvä olla vähän paksumpi pitkähihainen paita (esim. KMG huppari)\nTukeva vyö ja housut\, joihin vyön saa pujotettua\nJuomapullo ja tarpeen mukaan evästä\n\nHinnat: \n\n150 euroa (koulutus\, pistoolin vuokra tarvittavine varusteineen\, taulut ja patruunat)\n\nIlmoittautuminen: \nIlmoittautuminen tapahtuu oheisella lomakkeella. Kurssille otetaan korkeintaan 10 osallistujaa. Ilmoittautumisen jälkeen sinulle lähetetään saman tien vahvistussähköposti\, jossa on maksutiedot. Kannattaa katsoa myös roskipostikansio. Mikäli et saa vahvistussähköpostia\, olethan pikimmiten yhteydessä. Mikäli sinulla on oma ase\, jota haluat käyttää kurssilla\, ilmoitathan tästä erikseen sähköpostitse info (ät) kmgfinland.com. \nIlmoittautumisen ja kurssimaksun eräpäivä on 1.8.2025. \nPeruutusehdot: \nKurssille ilmoittautuminen on peruutettavissa ilman lisäkuluja 1.8.2025 asti. Peruutettaessa 1.8.-5.8.2025 perimme käsittelykuluina 60 euroa. Peruutettaessa 5.8.2025 jälkeen perimme koko kurssimaksun.
URL:https://kmgfinland.com/tapahtuma/kmg-pistooliseminaari/
LOCATION:Black Box Training Center\, Kuljettajankatu 13\, Kaarina\, Finland
END:VEVENT
END:VCALENDAR