BEGIN:VCALENDAR
VERSION:2.0
PRODID:-//KMG Finland - ECPv6.15.20//NONSGML v1.0//EN
CALSCALE:GREGORIAN
METHOD:PUBLISH
X-ORIGINAL-URL:https://kmgfinland.com
X-WR-CALDESC:Tapahtumat KMG Finland
REFRESH-INTERVAL;VALUE=DURATION:PT1H
X-Robots-Tag:noindex
X-PUBLISHED-TTL:PT1H
BEGIN:VTIMEZONE
TZID:Europe/Helsinki
BEGIN:DAYLIGHT
TZOFFSETFROM:+0200
TZOFFSETTO:+0300
TZNAME:EEST
DTSTART:20250330T010000
END:DAYLIGHT
BEGIN:STANDARD
TZOFFSETFROM:+0300
TZOFFSETTO:+0200
TZNAME:EET
DTSTART:20251026T010000
END:STANDARD
BEGIN:DAYLIGHT
TZOFFSETFROM:+0200
TZOFFSETTO:+0300
TZNAME:EEST
DTSTART:20260329T010000
END:DAYLIGHT
BEGIN:STANDARD
TZOFFSETFROM:+0300
TZOFFSETTO:+0200
TZNAME:EET
DTSTART:20261025T010000
END:STANDARD
BEGIN:DAYLIGHT
TZOFFSETFROM:+0200
TZOFFSETTO:+0300
TZNAME:EEST
DTSTART:20270328T010000
END:DAYLIGHT
BEGIN:STANDARD
TZOFFSETFROM:+0300
TZOFFSETTO:+0200
TZNAME:EET
DTSTART:20271031T010000
END:STANDARD
END:VTIMEZONE
BEGIN:VEVENT
DTSTART;TZID=Europe/Helsinki:20260124T080000
DTEND;TZID=Europe/Helsinki:20260201T170000
DTSTAMP:20260420T094543
CREATED:20250912T081300Z
LAST-MODIFIED:20250912T081300Z
UID:1511-1769241600-1769965200@kmgfinland.com
SUMMARY:KMG Ohjaajakoulutus - Osa 2
DESCRIPTION:KMG ohjaajakoulutus järjestetään Suomessa vuosina 2025 ja 2026. \nKMG:n ohjaajakoulutus (GIC) tunnetaan nykyään maailman kattavimpana Krav Maga -koulutuksena. Laajan\, monivaiheisen ohjelman avulla GIC kehittää Krav Magan taitoja\, tekniikoita ja taktiikkaa ja yhdistää ne opetustietoon ja erittäin kehittyneisiin koulutusmenetelmiin ja prosesseihin. \nOhjaajakoulutuksen myötä saat: \n\nTietoa\, kokemusta ja taitoja kattavan Krav Maga Global -opetussuunnitelman opettamiseen\nRakenna ja vahvista Krav Maga -asiantuntemuksesi sekä omistautumisesi ja sitoutumisesi korkeisiin standardeihin ja jatkuvaan ammatilliseen kehittymiseen\nVahvistettua tai lisääntynyttä uskottavuutta ohjaajana\nPääsyn maailman pätevimpien Krav Maga -ohjaajien verkostoon\nMahdollisuus parantaa omia Krav Maga -taitojasi säännöllisten ohjaajapäivitysten\, leirien ja jatkokurssien avulla\nMahdollisuus parantaa johtamistaitojasi menestyäksesi ohjaajana Krav Maga seurassa\n\nKMG Ohjaaja -sertifikaatin ansaitseminen on näkyvä osoitus siitä\, että sinulla on pätevyys Krav Magan ydinperiaatteisiin ja Krav Magan opetuksen ja valmennuksen parhaiden käytäntöjen kannalta välttämättömiin taitoihin. Se osoittaa\, että olet sitoutunut huippuosaamiseen\, ammatilliseen kasvuun ja käytännesääntöihin. \nKMG ohjaajakoulutus toteutetaan ns. hybridiopetuksena\, jolloin osa opetuksesta tapahtuu itseopiskeluna verkossa ja osa (yhteensä 18 päivää) lähiopetuksena. Lähiopetuspäivät on jaettu kahteen 9 päivän mittaiseen osaan. \nKurssin onnistunut suorittaminen riippuu tiettyjen kriteerien täyttymisestä kunkin tason lopussa\, mukaan lukien teoreettiset\, tekniset ja taktiset kokeet sekä opittujen opetustaitojen käytännön soveltaminen. \nKMG:n pääkouluttajan Eyal Yanilovin allekirjoittama Krav Maga Global Graduate -tason tasodiplomi ja Ohjaaja-diplomi myönnetään kaikkien ohjaajakoulutuksen osien onnistuneen suorittamisen jälkeen. \nAikataulu: \n\nOsa 1 (9 pv): 7.-15.6.2025 klo 9 – 17\, REvolution Fight\, Salo\nOsa 2 (9 pv): 24.1.-1.2.2026 klo 9 – 17\, Krav Maga Kirkkonummi\, Kirkkonummi\n\nHinta: \nKurssin osan 2 hinta 1200 euroa\, joka maksetaan ennen osion alkua. Tarkemmat maksutiedot ja aikataulun saat koulutukseen ilmoittautumisen jälkeen. \nIlmoittautuminen: \nKurssille osallistuminen edellyttää osa 1 suorittamista. Osa 1 kesällä 2025 suorittaneiden ei tarvitse erikseen ilmoittautua koulutukseen. Muiden osallistujien ilmoittauminen vapaamuotoisella sähköpostilla 31.12.2025 mennessä.
URL:https://kmgfinland.com/tapahtuma/kmg-ohjaajakoulutus-osa-2/
LOCATION:Krav Maga Kirkkonummi\, Masalantie 357\, Kirkkonummi\, 02430\, Suomi
END:VEVENT
BEGIN:VEVENT
DTSTART;TZID=Europe/Helsinki:20260207T100000
DTEND;TZID=Europe/Helsinki:20260208T160000
DTSTAMP:20260420T094543
CREATED:20251011T182549Z
LAST-MODIFIED:20251220T193345Z
UID:1514-1770458400-1770566400@kmgfinland.com
SUMMARY:KMG Talvileiri 2026
DESCRIPTION:KMG:n talvileiri järjestetään 7.-8.2.2026. \n \nKMG:n talvileiri painottuu P- ja G-tasojen tekniikoihin. Alla tarkemmat tiedot: \nLauantai 7.2.2026 \n\nPaikka: Krav Maga Kirkkonummi\, Masalantie 357\, Kirkkonummi\nKlo 10:00 – 16:00 (sis. 1h lounastauon)\nAihe: G-tasojen tasotekniikat\nHinta: 50 eur\n\nSunnuntai 8.2.2026 \n\nPaikka: Espoon Krav Maga\, Tuulikuja 1\, Espoo\nKlo 10:00 – 16:00 (sis. 1h lounastauon)\nAihe: P-tasojen tasotekniikat\nHinta: 50 eur\n\nIlmoittautuminen oheisella ilmoittautumislomakkeella. Mainitse ilmoittautuessasi\, osallistutko molempiin päiviin vai vain toiseen. \n 
URL:https://kmgfinland.com/tapahtuma/kmg-talvileiri-2026/
LOCATION:Krav Maga Kirkkonummi\, Masalantie 357\, Kirkkonummi\, 02430\, Suomi
END:VEVENT
BEGIN:VEVENT
DTSTART;TZID=Europe/Helsinki:20260328T100000
DTEND;TZID=Europe/Helsinki:20260328T160000
DTSTAMP:20260420T094543
CREATED:20260210T105117Z
LAST-MODIFIED:20260210T105117Z
UID:1548-1774692000-1774713600@kmgfinland.com
SUMMARY:Car Fight
DESCRIPTION:Tule kokemaan elämäsi bussikyyti ja selviytymään henkilöautossa!\n\n\nPaikka: Kamppailu- ja urheilukeskus\, Teollisuuskatu 10 (Riihimäki)\nAjankohta: Lauantai 28.3.2026 klo 10.00-16.00 (sis. lounastauon)\nAihe: Toiminta erilaisissa ajoneuvoissa itsepuolustustilanteissa\nHinta: 55 eur\n\n\nOhjaajat: GIT Joni Heinonen ja Riihimäen ohjaajat\n\nIlmoittautuminen: https://heracles.myclub.fi/flow/courses/10315540
URL:https://kmgfinland.com/tapahtuma/car-fight/
LOCATION:Riihimäen kamppailukeskus\, Teollisuuskatu 10\, Riihimäki\, 11130\, Suomi
END:VEVENT
BEGIN:VEVENT
DTSTART;TZID=Europe/Helsinki:20260412T100000
DTEND;TZID=Europe/Helsinki:20260412T160000
DTSTAMP:20260420T094543
CREATED:20251117T144705Z
LAST-MODIFIED:20260210T043931Z
UID:1520-1775988000-1776009600@kmgfinland.com
SUMMARY:KMG ohjaajien jatkokoulutus - kevät 2026
DESCRIPTION:Kevään 2026 ohjaajien jatkokoulutus järjestetään 12.4.2026 Kirkkonummella. \nTapahtuman tiedot: \n\nPaikka: Krav Maga Kirkkonummi\, Masalantie 357\, Kirkkonummi\nAjankohta: Sunnuntai 12.4.2025 klo 10 – 16 (sis. lounastauon)\nAihe: sotilas krav maga\n\nIlmoittautuminen oheisella lomakkeella. Jatkokoulutuspäivä on osa KMG Instructor Program 2026 -ohjelmaa eikä siitä ole erillistä maksua.
URL:https://kmgfinland.com/tapahtuma/kmg-ohjaajien-jatkokoulutus-kevat-2026/
LOCATION:Krav Maga Kirkkonummi\, Masalantie 357\, Kirkkonummi\, 02430\, Suomi
END:VEVENT
BEGIN:VEVENT
DTSTART;TZID=Europe/Helsinki:20260524T110000
DTEND;TZID=Europe/Helsinki:20260524T180000
DTSTAMP:20260420T094543
CREATED:20251220T192907Z
LAST-MODIFIED:20251220T193023Z
UID:1525-1779620400-1779645600@kmgfinland.com
SUMMARY:KMG P- ja G-tasojen tasokoe
DESCRIPTION:KMG:n Practitioner ja Graduate tasojen tasokoe järjestetään 24.5.2026.\n\nTapahtuman tiedot: \nAjankohta: 24.5.2026 sunnuntai klo 11 ->\nAihe: P2-G5 tasojen tasokokeet\nHinnat:\nP-tasot 40 euroa\nG-tasot 50 euroa\nPaikka:\nRevolution Fight Salo\, Helsingintie 22\, Salo \nTasokoeohjeet ja osallistumisen edellytykset löytyvät Tasokokeet-sivulta \nIlmoittautuminen tapahtuu oheisella ilmoittautumislomakkeella 12.5.2026 mennessä.
URL:https://kmgfinland.com/tapahtuma/1525/
LOCATION:Revolution Fight\, Helsingintie 5\, Salo\, Suomi
END:VEVENT
BEGIN:VEVENT
DTSTART;TZID=Europe/Helsinki:20260801T090000
DTEND;TZID=Europe/Helsinki:20260807T170000
DTSTAMP:20260420T094543
CREATED:20250911T120503Z
LAST-MODIFIED:20260210T044655Z
UID:1509-1785574800-1786122000@kmgfinland.com
SUMMARY:KMG Close Protection Instructor Course
DESCRIPTION:KMG Close Protection Instructor -koulutus järjestetään 1.-7.8.2026 Suomessa. \n \nLisätietoja koulutuksesta: https://krav-maga.com/cpic-finland-2026/ \nTapahtuman tarkemmat tiedot: \n\nAjankohta: 1-7.8.2026\nHarjoitusajat: klo 9- n. klo 17\nHinta: 1199 eur (ennakkovaraajan alennushinta 999 eur\, kun ilmoittaudut ja maksat 15.6.2026 mennessä)\n\nIlmoittautuminen oheisella lomakkeella 15.7.2026 mennessä. Maksutiedot tulevat ilmoittautumisen jälkeen automaattiviestinä. Mikäli haluat osallistumismaksusta laskun esimerkiksi seuralle tai yritykselle\, olethan tästä pikimmiten yhteydessä info (ät) kmgfinland.com
URL:https://kmgfinland.com/tapahtuma/kmg-close-protection-instructor-course/
END:VEVENT
BEGIN:VEVENT
DTSTART;TZID=Europe/Helsinki:20260808T100000
DTEND;TZID=Europe/Helsinki:20260809T150000
DTSTAMP:20260420T094543
CREATED:20260419T183540Z
LAST-MODIFIED:20260419T184649Z
UID:1557-1786183200-1786287600@kmgfinland.com
SUMMARY:KMG Pistooliammuntakurssi 2026
DESCRIPTION:KMG Finland järjestää elokuussa pistooliammuntakurssin Black Box Training Centerillä Kaarinassa. \n \nPistoolikurssi painottuu pistoolin käytön ja KMG tekniikoiden ja taktiikoiden yhdistämiseen. Kurssin teemana on pistoolin käyttö kolmannen osapuolen suojaamiseksi erilaisissa tilanteissa. \nTapahtuman tiedot: \n\nKurssipäivät: 8.-9.8.2025 la-su\nHarjoitusajat: klo 10 – 15 (sis. tunnin lounastauko)\nPaikka: Black Box Training center\, Kuljettajankatu 13\, Kaarina\n\nEsitietovaatimukset: \n\nKMG P1 – taso (suositus P3 +)\nKokemus pistoolilla ampumisesta on eduksi\, muttei ehdoton edellytys osallistumiselle\n\nVaadittavat varusteet: \n\nPistooli\, 9 mm (myös muun kaliiperin pistooli käy\, mutta silloin joudut hankkimaan patruunat itse)\nVaralipas\nKotelo pistoolille ja varalippaalle (huom! tukevat vyö koteloa varten)\nKuulosuojaimet\n\nHinnat: \n\nEnnakkovaraajan hinta 175 euroa (koulutus\, taulut ja patruunat) – ennen 15.7.2026 ilmoittautuneille\nNormaalihinta 195 euroa (koulutus\, taulut ja patruunat)\nVarustepaketin (pistooli\, varalipas\, kotelot) hinta on 65 euroa\n\nIlmoittautuminen \nIlmoittautuminen aukeaa lähiaikoina. Kurssille otetaan korkeintaan 10 osallistujaa. Ilmoittautumisen jälkeen sinulle lähetetään saman tien vahvistussähköposti\, jossa on maksutiedot. Kannattaa katsoa myös roskipostikansio. Mikäli et saa vahvistussähköpostia\, olethan pikimmiten yhteydessä osoitteeseen info (at) kmgfinland.com. \nKurssimaksun eräpäivä on 31.7.2026. \nPeruutusehdot: \nKurssille ilmoittautuminen on peruutettavissa ilman lisäkuluja 15.7.2026 asti. Peruutettaessa 15.7-4.8.2026 perimme käsittelykuluina 65 euroa. Peruutettaessa 4.8.2026 jälkeen perimme koko kurssimaksun.
URL:https://kmgfinland.com/tapahtuma/kmg-pistooliammuntakurssi-2026/
LOCATION:Black Box Training Center\, Kuljettajankatu 13\, Kaarina\, Finland
END:VEVENT
END:VCALENDAR